BEGIN:VCALENDAR
VERSION:2.0
PRODID:-//Whanganui Boys and Girls Gym Club - ECPv6.15.20//NONSGML v1.0//EN
CALSCALE:GREGORIAN
METHOD:PUBLISH
X-ORIGINAL-URL:https://whanganuigymclub.co.nz
X-WR-CALDESC:Events for Whanganui Boys and Girls Gym Club
REFRESH-INTERVAL;VALUE=DURATION:PT1H
X-Robots-Tag:noindex
X-PUBLISHED-TTL:PT1H
BEGIN:VTIMEZONE
TZID:Pacific/Auckland
BEGIN:STANDARD
TZOFFSETFROM:+1300
TZOFFSETTO:+1200
TZNAME:NZST
DTSTART:20180331T140000
END:STANDARD
BEGIN:DAYLIGHT
TZOFFSETFROM:+1200
TZOFFSETTO:+1300
TZNAME:NZDT
DTSTART:20180929T140000
END:DAYLIGHT
BEGIN:STANDARD
TZOFFSETFROM:+1300
TZOFFSETTO:+1200
TZNAME:NZST
DTSTART:20190406T140000
END:STANDARD
BEGIN:DAYLIGHT
TZOFFSETFROM:+1200
TZOFFSETTO:+1300
TZNAME:NZDT
DTSTART:20190928T140000
END:DAYLIGHT
BEGIN:STANDARD
TZOFFSETFROM:+1300
TZOFFSETTO:+1200
TZNAME:NZST
DTSTART:20200404T140000
END:STANDARD
BEGIN:DAYLIGHT
TZOFFSETFROM:+1200
TZOFFSETTO:+1300
TZNAME:NZDT
DTSTART:20200926T140000
END:DAYLIGHT
BEGIN:STANDARD
TZOFFSETFROM:+1300
TZOFFSETTO:+1200
TZNAME:NZST
DTSTART:20210403T140000
END:STANDARD
BEGIN:DAYLIGHT
TZOFFSETFROM:+1200
TZOFFSETTO:+1300
TZNAME:NZDT
DTSTART:20210925T140000
END:DAYLIGHT
BEGIN:STANDARD
TZOFFSETFROM:+1300
TZOFFSETTO:+1200
TZNAME:NZST
DTSTART:20220402T140000
END:STANDARD
BEGIN:DAYLIGHT
TZOFFSETFROM:+1200
TZOFFSETTO:+1300
TZNAME:NZDT
DTSTART:20220924T140000
END:DAYLIGHT
BEGIN:STANDARD
TZOFFSETFROM:+1300
TZOFFSETTO:+1200
TZNAME:NZST
DTSTART:20230401T140000
END:STANDARD
BEGIN:DAYLIGHT
TZOFFSETFROM:+1200
TZOFFSETTO:+1300
TZNAME:NZDT
DTSTART:20230923T140000
END:DAYLIGHT
BEGIN:STANDARD
TZOFFSETFROM:+1300
TZOFFSETTO:+1200
TZNAME:NZST
DTSTART:20240406T140000
END:STANDARD
BEGIN:DAYLIGHT
TZOFFSETFROM:+1200
TZOFFSETTO:+1300
TZNAME:NZDT
DTSTART:20240928T140000
END:DAYLIGHT
BEGIN:STANDARD
TZOFFSETFROM:+1300
TZOFFSETTO:+1200
TZNAME:NZST
DTSTART:20250405T140000
END:STANDARD
BEGIN:DAYLIGHT
TZOFFSETFROM:+1200
TZOFFSETTO:+1300
TZNAME:NZDT
DTSTART:20250927T140000
END:DAYLIGHT
END:VTIMEZONE
BEGIN:VEVENT
DTSTART;VALUE=DATE:20190722
DTEND;VALUE=DATE:20190923
DTSTAMP:20260426T020918
CREATED:20190530T233039Z
LAST-MODIFIED:20190530T233711Z
UID:951-1563753600-1569196799@whanganuigymclub.co.nz
SUMMARY:Term 3
DESCRIPTION:Term 3 for all recreational and preschool classes \nHead to the Sign Up page to enroll!
URL:https://whanganuigymclub.co.nz/event/term-3-2/
LOCATION:Gym Club\, G F Moore Drive\, Springvale Park\, Whanganui\, 4500\, New Zealand
CATEGORIES:Term Dates
END:VEVENT
BEGIN:VEVENT
DTSTART;TZID=Pacific/Auckland:20190901T083000
DTEND;TZID=Pacific/Auckland:20190901T170000
DTSTAMP:20260426T020918
CREATED:20190814T030158Z
LAST-MODIFIED:20190814T030158Z
UID:1015-1567326600-1567357200@whanganuigymclub.co.nz
SUMMARY:Incentive Award Camp
DESCRIPTION:We are running our annual Incentive Award Camp on the 1st September 8.30-5.00pm \nJoin us for fun Gymnastics activities\, work on perfecting your badge routines and swimming at the Splash. \nAll Recreational Classes will be tested for their badge in Week 7 and Week 8 of this Term. So come along for an extra practice and to perfect those skills! \nTo register\, please fill in a form and return to the Office by Friday 23rd August \ncamp info notice
URL:https://whanganuigymclub.co.nz/event/incentive-award-camp-2/
LOCATION:Gym Club\, G F Moore Drive\, Springvale Park\, Whanganui\, 4500\, New Zealand
END:VEVENT
BEGIN:VEVENT
DTSTART;TZID=Pacific/Auckland:20190908T100000
DTEND;TZID=Pacific/Auckland:20190908T120000
DTSTAMP:20260426T020918
CREATED:20190814T030451Z
LAST-MODIFIED:20190814T030533Z
UID:1018-1567936800-1567944000@whanganuigymclub.co.nz
SUMMARY:Open Day
DESCRIPTION:We will be holding an Open Day for 5 yrs and above on Sunday 8th September from 10.00-12.00pm. \nCome check out our new Foam Pit and try out your tricks on our equipment. \nThis is a great opportunity to have a go at Gymnastics\, before committing to a Term enrollment! \n$5 per child\, pay on entry
URL:https://whanganuigymclub.co.nz/event/open-day-2/
LOCATION:Gym Club\, G F Moore Drive\, Springvale Park\, Whanganui\, 4500\, New Zealand
END:VEVENT
BEGIN:VEVENT
DTSTART;TZID=Pacific/Auckland:20190922T100000
DTEND;TZID=Pacific/Auckland:20190922T150000
DTSTAMP:20260426T020918
CREATED:20190814T030653Z
LAST-MODIFIED:20190814T030653Z
UID:1021-1569146400-1569164400@whanganuigymclub.co.nz
SUMMARY:Tri Series Compeition
DESCRIPTION:Come down and support our Recreational Gymnasts in their second competition of the Year!
URL:https://whanganuigymclub.co.nz/event/tri-series-compeition/
LOCATION:Gym Club\, G F Moore Drive\, Springvale Park\, Whanganui\, 4500\, New Zealand
END:VEVENT
BEGIN:VEVENT
DTSTART;VALUE=DATE:20190930
DTEND;VALUE=DATE:20191012
DTSTAMP:20260426T020918
CREATED:20190530T233632Z
LAST-MODIFIED:20190909T003705Z
UID:958-1569801600-1570838399@whanganuigymclub.co.nz
SUMMARY:October Holiday Programme
DESCRIPTION:Join us for our OSCAR approved Wild Wild West Holiday Programme\, this October! \nWe will be running for two weeks over the School Holidays. Activities include; swimming at the Splash\, wild wild west theme days\, baking yummy treats\, lip sync battles and a trip to the International Flight School and Tram Shed. \nWe charge $40 per day\, with WINZ subsidies available. \nTo sign up please fill in the form below and email to: admin@wanganuigymclub.co.nz or pop in to drop it off. \nOct HP Enrolment Form 2019 \nOct HP Brochure 2019
URL:https://whanganuigymclub.co.nz/event/october-holiday-programme/
LOCATION:Gym Club\, G F Moore Drive\, Springvale Park\, Whanganui\, 4500\, New Zealand
CATEGORIES:Holiday Programmes
END:VEVENT
BEGIN:VEVENT
DTSTART;VALUE=DATE:20191014
DTEND;VALUE=DATE:20191216
DTSTAMP:20260426T020918
CREATED:20231008T223157Z
LAST-MODIFIED:20221127T210214Z
UID:953-1571011200-1576454399@whanganuigymclub.co.nz
SUMMARY:Term 4
DESCRIPTION:Term 4 for all recreational and preschool classes \nHead to the Sign Up page to enroll!
URL:https://whanganuigymclub.co.nz/event/term-4-2/
LOCATION:Gym Club\, G F Moore Drive\, Springvale Park\, Whanganui\, 4500\, New Zealand
CATEGORIES:Term Dates
END:VEVENT
BEGIN:VEVENT
DTSTART;TZID=Pacific/Auckland:20191027T080000
DTEND;TZID=Pacific/Auckland:20191027T170000
DTSTAMP:20260426T020918
CREATED:20190814T030851Z
LAST-MODIFIED:20190814T030851Z
UID:1024-1572163200-1572195600@whanganuigymclub.co.nz
SUMMARY:Team Gym Competition
DESCRIPTION:
URL:https://whanganuigymclub.co.nz/event/team-gym-competition-2/
END:VEVENT
BEGIN:VEVENT
DTSTART;TZID=Pacific/Auckland:20191117T110000
DTEND;TZID=Pacific/Auckland:20191117T160000
DTSTAMP:20260426T020918
CREATED:20191022T033058Z
LAST-MODIFIED:20191022T033710Z
UID:1122-1573988400-1574006400@whanganuigymclub.co.nz
SUMMARY:Sports Accuracy Tournament Fundraiser
DESCRIPTION:We are running a sports accuracy tournament as a fundraiser on the 17th November from 11am at Barracks Bar. \nLots of prizes an fun to be had! \nThink you have got what it takes to win the 2019 Trophy!? Grab a team of 8 and enter today! \nFor more information or to register email: manager@wanganuigymclub.co.nz
URL:https://whanganuigymclub.co.nz/event/sports-accuracy-tournament-fundraiser/
LOCATION:Barracks Bar\, 170 St Hill St\, Whanganui\, 4500\, New Zealand
END:VEVENT
BEGIN:VEVENT
DTSTART;TZID=Pacific/Auckland:20200430T153000
DTEND;TZID=Pacific/Auckland:20200430T163000
DTSTAMP:20260426T020918
CREATED:20200304T201533Z
LAST-MODIFIED:20200304T205115Z
UID:1182-1588260600-1588264200@whanganuigymclub.co.nz
SUMMARY:Give it a Go Day
DESCRIPTION:3.45 – 4.45pm
URL:https://whanganuigymclub.co.nz/event/give-it-a-go-days/
LOCATION:Gym Club\, G F Moore Drive\, Springvale Park\, Whanganui\, 4500\, New Zealand
END:VEVENT
BEGIN:VEVENT
DTSTART;TZID=Pacific/Auckland:20200721T153000
DTEND;TZID=Pacific/Auckland:20200721T163000
DTSTAMP:20260426T020918
CREATED:20200304T202047Z
LAST-MODIFIED:20200304T205331Z
UID:1188-1595345400-1595349000@whanganuigymclub.co.nz
SUMMARY:Give Gymnastics a Go Day
DESCRIPTION:
URL:https://whanganuigymclub.co.nz/event/give-gymnastics-a-go-day/
LOCATION:Gym Club\, G F Moore Drive\, Springvale Park\, Whanganui\, 4500\, New Zealand
END:VEVENT
BEGIN:VEVENT
DTSTART;VALUE=DATE:20240303
DTEND;VALUE=DATE:20240304
DTSTAMP:20260426T020918
CREATED:20200304T202310Z
LAST-MODIFIED:20240221T023858Z
UID:1191-1709424000-1709510399@whanganuigymclub.co.nz
SUMMARY:Children's Day - Free open day
DESCRIPTION:information poster
URL:https://whanganuigymclub.co.nz/event/wanganui-opens/
LOCATION:Gym Club\, G F Moore Drive\, Springvale Park\, Whanganui\, 4500\, New Zealand
END:VEVENT
END:VCALENDAR