BEGIN:VCALENDAR
VERSION:2.0
PRODID:-//Whanganui Boys and Girls Gym Club - ECPv6.15.20//NONSGML v1.0//EN
CALSCALE:GREGORIAN
METHOD:PUBLISH
X-WR-CALNAME:Whanganui Boys and Girls Gym Club
X-ORIGINAL-URL:https://whanganuigymclub.co.nz
X-WR-CALDESC:Events for Whanganui Boys and Girls Gym Club
REFRESH-INTERVAL;VALUE=DURATION:PT1H
X-Robots-Tag:noindex
X-PUBLISHED-TTL:PT1H
BEGIN:VTIMEZONE
TZID:Pacific/Auckland
BEGIN:STANDARD
TZOFFSETFROM:+1300
TZOFFSETTO:+1200
TZNAME:NZST
DTSTART:20180331T140000
END:STANDARD
BEGIN:DAYLIGHT
TZOFFSETFROM:+1200
TZOFFSETTO:+1300
TZNAME:NZDT
DTSTART:20180929T140000
END:DAYLIGHT
BEGIN:STANDARD
TZOFFSETFROM:+1300
TZOFFSETTO:+1200
TZNAME:NZST
DTSTART:20190406T140000
END:STANDARD
BEGIN:DAYLIGHT
TZOFFSETFROM:+1200
TZOFFSETTO:+1300
TZNAME:NZDT
DTSTART:20190928T140000
END:DAYLIGHT
BEGIN:STANDARD
TZOFFSETFROM:+1300
TZOFFSETTO:+1200
TZNAME:NZST
DTSTART:20200404T140000
END:STANDARD
BEGIN:DAYLIGHT
TZOFFSETFROM:+1200
TZOFFSETTO:+1300
TZNAME:NZDT
DTSTART:20200926T140000
END:DAYLIGHT
END:VTIMEZONE
BEGIN:VTIMEZONE
TZID:UTC
BEGIN:STANDARD
TZOFFSETFROM:+0000
TZOFFSETTO:+0000
TZNAME:UTC
DTSTART:20170101T000000
END:STANDARD
END:VTIMEZONE
BEGIN:VEVENT
DTSTART;VALUE=DATE:20190722
DTEND;VALUE=DATE:20190923
DTSTAMP:20260425T234139
CREATED:20190530T233039Z
LAST-MODIFIED:20190530T233711Z
UID:951-1563753600-1569196799@whanganuigymclub.co.nz
SUMMARY:Term 3
DESCRIPTION:Term 3 for all recreational and preschool classes \nHead to the Sign Up page to enroll!
URL:https://whanganuigymclub.co.nz/event/term-3-2/
LOCATION:Gym Club\, G F Moore Drive\, Springvale Park\, Whanganui\, 4500\, New Zealand
CATEGORIES:Term Dates
END:VEVENT
BEGIN:VEVENT
DTSTART;VALUE=DATE:20190708
DTEND;VALUE=DATE:20190720
DTSTAMP:20260425T234139
CREATED:20190530T233533Z
LAST-MODIFIED:20190618T002121Z
UID:956-1562544000-1563580799@whanganuigymclub.co.nz
SUMMARY:July Holiday Programme
DESCRIPTION:Fill in your enrolment form to Register: \nJuly HP Enrolment Form 2019 \n 
URL:https://whanganuigymclub.co.nz/event/july-holiday-programme/
LOCATION:Gym Club\, G F Moore Drive\, Springvale Park\, Whanganui\, 4500\, New Zealand
CATEGORIES:Holiday Programmes
END:VEVENT
BEGIN:VEVENT
DTSTART;TZID=Pacific/Auckland:20190704T173000
DTEND;TZID=Pacific/Auckland:20190704T183000
DTSTAMP:20260425T234139
CREATED:20190626T234045Z
LAST-MODIFIED:20190626T234045Z
UID:991-1562261400-1562265000@whanganuigymclub.co.nz
SUMMARY:Community Hui
DESCRIPTION:We invite you to attend an open meeting here at the Whanganui Boys and Girls Gym Club at 5.30pm. \nAt this meeting we will outline the Clubs current situation\, strengths\, weakness and ask ask for community support to develop future strategies.\nWe believe everyone has something to offer and appreciate your support. \nBring your ideas and questions along. \nChildcare provided – There will be a movie for the kiddies 🙂
URL:https://whanganuigymclub.co.nz/event/community-hui/
LOCATION:Gym Club\, G F Moore Drive\, Springvale Park\, Whanganui\, 4500\, New Zealand
END:VEVENT
BEGIN:VEVENT
DTSTART;TZID=Pacific/Auckland:20190623T100000
DTEND;TZID=Pacific/Auckland:20190623T140000
DTSTAMP:20260425T234139
CREATED:20190530T232828Z
LAST-MODIFIED:20190530T232828Z
UID:947-1561284000-1561298400@whanganuigymclub.co.nz
SUMMARY:Open Day
DESCRIPTION:We will be holding 2 sessions for our Open Day on the 23rd June.\nNo gymnastics experience required! \nJunior session from 10-12pm (approx. 7yrs and younger)\nSenior session from 12-2pm (approx. 8yrs and above \n\nDoor charge of $5 per session \nFood and drinks available for purchase
URL:https://whanganuigymclub.co.nz/event/open-day/
LOCATION:Gym Club\, G F Moore Drive\, Springvale Park\, Whanganui\, 4500\, New Zealand
END:VEVENT
BEGIN:VEVENT
DTSTART;VALUE=DATE:20190429
DTEND;VALUE=DATE:20190701
DTSTAMP:20260425T234139
CREATED:20190530T232949Z
LAST-MODIFIED:20190530T233803Z
UID:949-1556496000-1561939199@whanganuigymclub.co.nz
SUMMARY:Term 2
DESCRIPTION:Term 2 for all recreational and Preschool Classes
URL:https://whanganuigymclub.co.nz/event/term-2-2/
LOCATION:Gym Club\, G F Moore Drive\, Springvale Park\, Whanganui\, 4500\, New Zealand
CATEGORIES:Term Dates
END:VEVENT
BEGIN:VEVENT
DTSTART;TZID=Pacific/Auckland:20190415T081500
DTEND;TZID=Pacific/Auckland:20190426T173000
DTSTAMP:20260425T234139
CREATED:20190307T005053Z
LAST-MODIFIED:20190307T005053Z
UID:855-1555316100-1556299800@whanganuigymclub.co.nz
SUMMARY:Easter Holiday Programme
DESCRIPTION:Enrollments for our April Programme are now open! \nSee below our fun-filled timetable and enrollment form \nApril HP Brochure 2019 \nApril HP Enrolment Form 2019
URL:https://whanganuigymclub.co.nz/event/easter-holiday-programme/
LOCATION:Gym Club\, G F Moore Drive\, Springvale Park\, Whanganui\, 4500\, New Zealand
ORGANIZER;CN="Jess":MAILTO:admin@wanganuigymclub.co.nz
END:VEVENT
BEGIN:VEVENT
DTSTART;TZID=Pacific/Auckland:20190211T153000
DTEND;TZID=Pacific/Auckland:20190414T193000
DTSTAMP:20260425T234139
CREATED:20190129T184432Z
LAST-MODIFIED:20190129T184432Z
UID:833-1549899000-1555270200@whanganuigymclub.co.nz
SUMMARY:Term 1
DESCRIPTION:Term 1 for all Recreational Classes
URL:https://whanganuigymclub.co.nz/event/term-1-2/
LOCATION:Gym Club\, G F Moore Drive\, Springvale Park\, Whanganui\, 4500\, New Zealand
CATEGORIES:Term Dates
END:VEVENT
BEGIN:VEVENT
DTSTART;TZID=UTC:20190107T081500
DTEND;TZID=UTC:20190201T173000
DTSTAMP:20260425T234139
CREATED:20181114T141309Z
LAST-MODIFIED:20181129T125142Z
UID:759-1546848900-1549042200@whanganuigymclub.co.nz
SUMMARY:Summer Holiday Programme
DESCRIPTION:Enrollments for our OSCAR Summer Holiday Progarmme are open!\nJoin us for lots of Summer Fun\, including; swimming\, trips to Virginia Lake and Kowhai Park\, baking cookies\, creating slime and lots of outdoor games and activities. \nWe are running the programme from the 7th Jan 2019-1st Feb 2019\n$40 per day with WINZ subsidies available. \nBookings are essential as spaces fill up fast! \nClick here to fill in your enrollment form: \nJan HP Enrolment Form 2019 \nJan 2019 HP brochure
URL:https://whanganuigymclub.co.nz/event/summer-holiday-programme/
LOCATION:Gym Club\, G F Moore Drive\, Springvale Park\, Whanganui\, 4500\, New Zealand
CATEGORIES:Holiday Programmes
END:VEVENT
BEGIN:VEVENT
DTSTART;TZID=UTC:20181217T090000
DTEND;TZID=UTC:20181221T170000
DTSTAMP:20260425T234139
CREATED:20180919T140626Z
LAST-MODIFIED:20180919T140648Z
UID:695-1545037200-1545411600@whanganuigymclub.co.nz
SUMMARY:Clean Week
DESCRIPTION:We take the opportunity at the end of the year to give the club a tidy up. Any help is much appreciated! \n 
URL:https://whanganuigymclub.co.nz/event/clean-week/
END:VEVENT
BEGIN:VEVENT
DTSTART;TZID=UTC:20181215T080000
DTEND;TZID=UTC:20181216T160000
DTSTAMP:20260425T234139
CREATED:20180919T140457Z
LAST-MODIFIED:20180919T140457Z
UID:693-1544860800-1544976000@whanganuigymclub.co.nz
SUMMARY:Break Up Display
DESCRIPTION:Join Us on Sunday for our annual Break Up Display. The children will be showcasing all the new skills they have learnt this year! \nPrizegiving will be held at the end of the day
URL:https://whanganuigymclub.co.nz/event/break-up-display/
END:VEVENT
BEGIN:VEVENT
DTSTART;TZID=UTC:20181208T140000
DTEND;TZID=UTC:20181208T160000
DTSTAMP:20260425T234139
CREATED:20180919T140304Z
LAST-MODIFIED:20180919T140304Z
UID:691-1544277600-1544284800@whanganuigymclub.co.nz
SUMMARY:Christmas Parade
DESCRIPTION:Join us on Mainstreet for this years Christmas parade
URL:https://whanganuigymclub.co.nz/event/christmas-parade-2/
END:VEVENT
BEGIN:VEVENT
DTSTART;TZID=UTC:20181115T180000
DTEND;TZID=UTC:20181115T193000
DTSTAMP:20260425T234139
CREATED:20181030T115246Z
LAST-MODIFIED:20181030T115246Z
UID:745-1542304800-1542310200@whanganuigymclub.co.nz
SUMMARY:AGM
DESCRIPTION:Every wanted to be a part of our Committee? Have your say\, help us to promote and contribute ideas to make the Club thrive! \nJoin us at the Club at 6pm
URL:https://whanganuigymclub.co.nz/event/agm-2/
LOCATION:Gym Club\, G F Moore Drive\, Springvale Park\, Whanganui\, 4500\, New Zealand
END:VEVENT
BEGIN:VEVENT
DTSTART;TZID=UTC:20181103T113000
DTEND;TZID=UTC:20181103T160000
DTSTAMP:20260425T234139
CREATED:20181016T145534Z
LAST-MODIFIED:20181016T145534Z
UID:722-1541244600-1541260800@whanganuigymclub.co.nz
SUMMARY:Spotting Workshop
DESCRIPTION:Join us for a Spotting workshop\, run by our Danish Coach Emil. \nRegistrations are essential
URL:https://whanganuigymclub.co.nz/event/spotting-workshop/
END:VEVENT
BEGIN:VEVENT
DTSTART;TZID=UTC:20181028T080000
DTEND;TZID=UTC:20181028T170000
DTSTAMP:20260425T234139
CREATED:20180808T161952Z
LAST-MODIFIED:20180808T161952Z
UID:650-1540713600-1540746000@whanganuigymclub.co.nz
SUMMARY:Team Gym Competition
DESCRIPTION:Come down and support our Gymnasts as they compete for the title!
URL:https://whanganuigymclub.co.nz/event/team-gym-competition/
LOCATION:Gym Club\, G F Moore Drive\, Springvale Park\, Whanganui\, 4500\, New Zealand
END:VEVENT
BEGIN:VEVENT
DTSTART;VALUE=DATE:20181015
DTEND;VALUE=DATE:20181215
DTSTAMP:20260425T234139
CREATED:20180405T175126Z
LAST-MODIFIED:20180405T175126Z
UID:507-1539561600-1544831999@whanganuigymclub.co.nz
SUMMARY:Term 4
DESCRIPTION:Term 4 for Gymnastic Classes. \nSpaces fill up fast so get in quick! Re-enrollments available for those who have attended the previous Term. \nEmail us: admin@wanganuigymclub.co.nz or see Jess at Reception for more details 🙂
URL:https://whanganuigymclub.co.nz/event/term-4/
CATEGORIES:Term Dates
END:VEVENT
BEGIN:VEVENT
DTSTART;TZID=UTC:20181001T083000
DTEND;TZID=UTC:20181014T173000
DTSTAMP:20260425T234139
CREATED:20180808T163507Z
LAST-MODIFIED:20180808T163507Z
UID:652-1538382600-1539538200@whanganuigymclub.co.nz
SUMMARY:Holiday Program
DESCRIPTION:Join us for fun-filled activities these Holidays!\nSee ‘latest news’ for current timetable
URL:https://whanganuigymclub.co.nz/event/holiday-program/
LOCATION:Gym Club\, G F Moore Drive\, Springvale Park\, Whanganui\, 4500\, New Zealand
ORGANIZER;CN="Jess":MAILTO:admin@wanganuigymclub.co.nz
END:VEVENT
BEGIN:VEVENT
DTSTART;TZID=UTC:20181001T080000
DTEND;TZID=UTC:20181012T173000
DTSTAMP:20260425T234139
CREATED:20180905T184726Z
LAST-MODIFIED:20180919T164026Z
UID:675-1538380800-1539365400@whanganuigymclub.co.nz
SUMMARY:Spring Holiday Programme
DESCRIPTION:Enrollments for our Spring Programme are now open! \nActivities include: Swimming at the Splash\, baking lolly cake\, a trip to the Bee Farm\, compete in the DUO games and maybe even improve or learn new Gymnastic skills. \nOSCAR Approved and WINZ subsidies available. \nGet in quick as spaces are limited! \n  \nOct HP Enrolment Form 2018 \nOct HP Brochure
URL:https://whanganuigymclub.co.nz/event/spring-holiday-programme/
LOCATION:Gym Club\, G F Moore Drive\, Springvale Park\, Whanganui\, 4500\, New Zealand
END:VEVENT
BEGIN:VEVENT
DTSTART;TZID=UTC:20180902T080000
DTEND;TZID=UTC:20180902T170000
DTSTAMP:20260425T234139
CREATED:20180808T161536Z
LAST-MODIFIED:20180808T161752Z
UID:646-1535875200-1535907600@whanganuigymclub.co.nz
SUMMARY:Incentive Award Camp
DESCRIPTION:For Gymnasts aged 7+\nFun-filled day for gymnasts to get in some extra practice before testing for their incentive award badge.\nRegistration closes 24th August
URL:https://whanganuigymclub.co.nz/event/incentive-award-camp/
LOCATION:Gym Club\, G F Moore Drive\, Springvale Park\, Whanganui\, 4500\, New Zealand
ORGANIZER;CN="Nadine":MAILTO:recreational@wanganuigymclub.co.nz
END:VEVENT
BEGIN:VEVENT
DTSTART;VALUE=DATE:20180811
DTEND;VALUE=DATE:20180813
DTSTAMP:20260425T234139
CREATED:20180405T180016Z
LAST-MODIFIED:20180405T180016Z
UID:517-1533945600-1534118399@whanganuigymclub.co.nz
SUMMARY:Aerobics Champs - TAURANGA
DESCRIPTION:Our Aerobics Athletes head to Tauranga for their last competition
URL:https://whanganuigymclub.co.nz/event/aerobics-champs-tauranga/
CATEGORIES:Aerobics Competitions
END:VEVENT
BEGIN:VEVENT
DTSTART;VALUE=DATE:20180723
DTEND;VALUE=DATE:20180922
DTSTAMP:20260425T234139
CREATED:20180405T175035Z
LAST-MODIFIED:20180405T175035Z
UID:505-1532304000-1537574399@whanganuigymclub.co.nz
SUMMARY:Term 3
DESCRIPTION:Term 3 for Gymnastic Classes. \nSpaces fill up fast so get in quick! Re-enrollments available for those who have attended the previous Term. \nEmail us: admin@wanganuigymclub.co.nz or see Jess at Reception for more details 🙂
URL:https://whanganuigymclub.co.nz/event/term-3/
CATEGORIES:Term Dates
END:VEVENT
BEGIN:VEVENT
DTSTART;TZID=UTC:20180709T083000
DTEND;TZID=UTC:20180720T173000
DTSTAMP:20260425T234139
CREATED:20180620T173129Z
LAST-MODIFIED:20180627T130714Z
UID:586-1531125000-1532107800@whanganuigymclub.co.nz
SUMMARY:Winter Holiday Programme
DESCRIPTION:Join us for Fun filled activities from all around the world! \nThese Holidays we will be visiting a new country each day and create artwork\, bake treats and play games popular to each Country. \n$40 a day with WINZ Subsidies available \nOSCAR Approved \nFill in the enrolment form below and email it to us admin@wanganuigymclub.co.nz or pop in to see us to secure your spot! \nJuly HP Enrolment Form 2018 \nJuly HP Brochure
URL:https://whanganuigymclub.co.nz/event/winter-holiday-programme/
LOCATION:Gym Club\, G F Moore Drive\, Springvale Park\, Whanganui\, 4500\, New Zealand
CATEGORIES:Holiday Programmes
END:VEVENT
BEGIN:VEVENT
DTSTART;VALUE=DATE:20180616
DTEND;VALUE=DATE:20180618
DTSTAMP:20260425T234139
CREATED:20180405T180119Z
LAST-MODIFIED:20180405T180119Z
UID:519-1529107200-1529279999@whanganuigymclub.co.nz
SUMMARY:Palmerston North Opens
DESCRIPTION:Our WAG and MAG Gymnasts head to Palmerston North to compete
URL:https://whanganuigymclub.co.nz/event/palmerston-north-opens/
CATEGORIES:Gymnastic Competitions
END:VEVENT
BEGIN:VEVENT
DTSTART;VALUE=DATE:20180604
DTEND;VALUE=DATE:20180605
DTSTAMP:20260425T234139
CREATED:20180405T175443Z
LAST-MODIFIED:20180405T175443Z
UID:511-1528070400-1528156799@whanganuigymclub.co.nz
SUMMARY:Queen's Birthday - Gym Closed
DESCRIPTION:Enjoy your long weekend. Classes resume Tuesday as normal
URL:https://whanganuigymclub.co.nz/event/queens-birthday-gym-closed/
CATEGORIES:Gym Closures
END:VEVENT
BEGIN:VEVENT
DTSTART;VALUE=DATE:20180602
DTEND;VALUE=DATE:20180604
DTSTAMP:20260425T234139
CREATED:20180405T175903Z
LAST-MODIFIED:20180405T175903Z
UID:515-1527897600-1528070399@whanganuigymclub.co.nz
SUMMARY:Aerobics Champs - NEW PLYMOUTH
DESCRIPTION:Our Aerobics Athletes head to New Plymouth to compete
URL:https://whanganuigymclub.co.nz/event/aerobics-champs-new-plymouth/
CATEGORIES:Aerobics Competitions
END:VEVENT
BEGIN:VEVENT
DTSTART;TZID=UTC:20180528T080000
DTEND;TZID=UTC:20180601T190000
DTSTAMP:20260425T234139
CREATED:20180528T163842Z
LAST-MODIFIED:20180528T163842Z
UID:564-1527494400-1527879600@whanganuigymclub.co.nz
SUMMARY:Class Photos
DESCRIPTION:Come dressed in your leotard/red clothing for photos this week! \nA reminder that forms need to be handed in by the 1st June
URL:https://whanganuigymclub.co.nz/event/class-photos/
LOCATION:Gym Club\, G F Moore Drive\, Springvale Park\, Whanganui\, 4500\, New Zealand
END:VEVENT
BEGIN:VEVENT
DTSTART;VALUE=DATE:20180526
DTEND;VALUE=DATE:20180528
DTSTAMP:20260425T234139
CREATED:20180405T174404Z
LAST-MODIFIED:20180405T174404Z
UID:501-1527292800-1527465599@whanganuigymclub.co.nz
SUMMARY:Whanganui Open Championships
DESCRIPTION:Come and support our Artistic WAG and MAG Gymnasts as they compete against Clubs from around New Zealand
URL:https://whanganuigymclub.co.nz/event/wanganui-open-championships/
LOCATION:Gym Club\, G F Moore Drive\, Springvale Park\, Whanganui\, 4500\, New Zealand
CATEGORIES:Gymnastic Competitions
END:VEVENT
BEGIN:VEVENT
DTSTART;VALUE=DATE:20180512
DTEND;VALUE=DATE:20180514
DTSTAMP:20260425T234139
CREATED:20180405T175758Z
LAST-MODIFIED:20180405T175758Z
UID:513-1526083200-1526255999@whanganuigymclub.co.nz
SUMMARY:Aerobics Champs - AUCKLAND
DESCRIPTION:Our Aerobics Athletes head to Auckland to compete in their first competition for the year!
URL:https://whanganuigymclub.co.nz/event/aerobics-champs-auckland/
CATEGORIES:Aerobics Competitions
END:VEVENT
BEGIN:VEVENT
DTSTART;VALUE=DATE:20180430
DTEND;VALUE=DATE:20180630
DTSTAMP:20260425T234139
CREATED:20180405T174837Z
LAST-MODIFIED:20180405T174837Z
UID:503-1525046400-1530316799@whanganuigymclub.co.nz
SUMMARY:Term 2
DESCRIPTION:Term 2 for Gymnastic Classes. \nSpaces fill up fast so get in quick! Re-enrollments available for those who have attended the previous Term. \nEmail us: admin@wanganuigymclub.co.nz or see Jess at Reception for more details 🙂
URL:https://whanganuigymclub.co.nz/event/term-2/
CATEGORIES:Term Dates
END:VEVENT
BEGIN:VEVENT
DTSTART;VALUE=DATE:20180425
DTEND;VALUE=DATE:20180426
DTSTAMP:20260425T234139
CREATED:20180405T180233Z
LAST-MODIFIED:20180405T180233Z
UID:521-1524614400-1524700799@whanganuigymclub.co.nz
SUMMARY:ANZAC Day - Gym Closed
DESCRIPTION:Holiday Programme resumes on Thursday as normal
URL:https://whanganuigymclub.co.nz/event/anzac-day-gym-closed/
CATEGORIES:Gym Closures
END:VEVENT
BEGIN:VEVENT
DTSTART;TZID=UTC:20180416T080000
DTEND;TZID=UTC:20180427T173000
DTSTAMP:20260425T234139
CREATED:20180405T174014Z
LAST-MODIFIED:20180405T174014Z
UID:499-1523865600-1524850200@whanganuigymclub.co.nz
SUMMARY:Out Of this World Holiday Programme
DESCRIPTION:Join us for fun filled Space Themed Activities these Holidays. \n$40 per day with WINZ subsidies available. \nGet in quick as spaces are limited \n 
URL:https://whanganuigymclub.co.nz/event/out-of-this-world-holiday-programme/
LOCATION:Gym Club\, G F Moore Drive\, Springvale Park\, Whanganui\, 4500\, New Zealand
CATEGORIES:Holiday Programmes
END:VEVENT
END:VCALENDAR