BEGIN:VCALENDAR
VERSION:2.0
PRODID:-//Whanganui Boys and Girls Gym Club - ECPv6.15.20//NONSGML v1.0//EN
CALSCALE:GREGORIAN
METHOD:PUBLISH
X-WR-CALNAME:Whanganui Boys and Girls Gym Club
X-ORIGINAL-URL:https://whanganuigymclub.co.nz
X-WR-CALDESC:Events for Whanganui Boys and Girls Gym Club
REFRESH-INTERVAL;VALUE=DURATION:PT1H
X-Robots-Tag:noindex
X-PUBLISHED-TTL:PT1H
BEGIN:VTIMEZONE
TZID:UTC
BEGIN:STANDARD
TZOFFSETFROM:+0000
TZOFFSETTO:+0000
TZNAME:UTC
DTSTART:20160101T000000
END:STANDARD
END:VTIMEZONE
BEGIN:VEVENT
DTSTART;VALUE=DATE:20171202
DTEND;VALUE=DATE:20171203
DTSTAMP:20260426T155142
CREATED:20170911T115449Z
LAST-MODIFIED:20170911T115449Z
UID:241-1512172800-1512259199@whanganuigymclub.co.nz
SUMMARY:Christmas Parade
DESCRIPTION:
URL:https://whanganuigymclub.co.nz/event/christmas-parade/
LOCATION:Gym Club\, G F Moore Drive\, Springvale Park\, Whanganui\, 4500\, New Zealand
END:VEVENT
BEGIN:VEVENT
DTSTART;VALUE=DATE:20171129
DTEND;VALUE=DATE:20171130
DTSTAMP:20260426T155142
CREATED:20170911T120058Z
LAST-MODIFIED:20170911T120058Z
UID:245-1511913600-1511999999@whanganuigymclub.co.nz
SUMMARY:Display Compeition
DESCRIPTION:
URL:https://whanganuigymclub.co.nz/event/display-compeition/
LOCATION:Gym Club\, G F Moore Drive\, Springvale Park\, Whanganui\, 4500\, New Zealand
END:VEVENT
BEGIN:VEVENT
DTSTART;VALUE=DATE:20171112
DTEND;VALUE=DATE:20171113
DTSTAMP:20260426T155142
CREATED:20170911T120324Z
LAST-MODIFIED:20170911T120324Z
UID:247-1510444800-1510531199@whanganuigymclub.co.nz
SUMMARY:Waikanae Team Gym Competition
DESCRIPTION:
URL:https://whanganuigymclub.co.nz/event/waikanae-team-gym-competition/
LOCATION:Waikanae Memorial Hall\, Pehi Kupa Street\, Waikanae\, 5036\, New Zealand
END:VEVENT
BEGIN:VEVENT
DTSTART;VALUE=DATE:20171002
DTEND;VALUE=DATE:20171014
DTSTAMP:20260426T155142
CREATED:20170907T135030Z
LAST-MODIFIED:20170907T135030Z
UID:221-1506902400-1507939199@whanganuigymclub.co.nz
SUMMARY:Jungle Fever Holiday Programme
DESCRIPTION:Join us for our fun filled Jungle Holiday Programme this Spring. Activities including; baking cupcakes\, swimming at the splash\, trip to Ashley Park\, creating your own jungle slime and much more!. \nFor more information contact us on ph: 06 345 8670 or email: admin@wanganuigymclub.co.nz \nHurry as spaces fill up fast!
URL:https://whanganuigymclub.co.nz/event/jungle-fever-holiday-programme/
CATEGORIES:Holiday Programmes
ATTACH;FMTTYPE=image/jpeg:https://whanganuigymclub.co.nz/wp-content/uploads/2017/09/36.33-jungle-fever-rug.jpg
END:VEVENT
BEGIN:VEVENT
DTSTART;TZID=UTC:20170926T160000
DTEND;TZID=UTC:20170926T173000
DTSTAMP:20260426T155142
CREATED:20170911T114944Z
LAST-MODIFIED:20170911T114944Z
UID:237-1506441600-1506447000@whanganuigymclub.co.nz
SUMMARY:Pre-Competitive Trial
DESCRIPTION:Contact competitive@wanganuigymclub.co.nz
URL:https://whanganuigymclub.co.nz/event/pre-competitive-trial/
LOCATION:Gym Club\, G F Moore Drive\, Springvale Park\, Whanganui\, 4500\, New Zealand
END:VEVENT
BEGIN:VEVENT
DTSTART;TZID=UTC:20170924T130000
DTEND;TZID=UTC:20170924T160000
DTSTAMP:20260426T155142
CREATED:20170911T115210Z
LAST-MODIFIED:20170911T115210Z
UID:239-1506258000-1506268800@whanganuigymclub.co.nz
SUMMARY:Open Day Fundraiser
DESCRIPTION:Fundraising for Nationals
URL:https://whanganuigymclub.co.nz/event/open-day-fundraiser/
LOCATION:Gym Club\, G F Moore Drive\, Springvale Park\, Whanganui\, 4500\, New Zealand
END:VEVENT
BEGIN:VEVENT
DTSTART;TZID=UTC:20170727T174500
DTEND;TZID=UTC:20170727T190000
DTSTAMP:20260426T155142
CREATED:20170705T100937Z
LAST-MODIFIED:20170705T100937Z
UID:181-1501177500-1501182000@whanganuigymclub.co.nz
SUMMARY:AGM
DESCRIPTION:
URL:https://whanganuigymclub.co.nz/event/agm/
LOCATION:Gym Club\, G F Moore Drive\, Springvale Park\, Whanganui\, 4500\, New Zealand
END:VEVENT
END:VCALENDAR